BEGIN:VCALENDAR
VERSION:2.0
PRODID:-//ddaysoftware.com//NONSGML DDay.iCal 1.0//EN
BEGIN:VTIMEZONE
TZID:W. Europe Standard Time
BEGIN:STANDARD
DTSTART:20251002T030000
RRULE:FREQ=YEARLY;BYDAY=-1SU;BYHOUR=3;BYMINUTE=0;BYMONTH=10
TZNAME:W. Europe Standard Time
TZOFFSETFROM:+0200
TZOFFSETTO:+0100
END:STANDARD
BEGIN:DAYLIGHT
DTSTART:20250301T020000
RRULE:FREQ=YEARLY;BYDAY=-1SU;BYHOUR=2;BYMINUTE=0;BYMONTH=3
TZNAME:W. Europe Daylight Time
TZOFFSETFROM:+0100
TZOFFSETTO:+0200
END:DAYLIGHT
END:VTIMEZONE
BEGIN:VEVENT
CATEGORIES:Feste
DESCRIPTION:\n\nVeranstalter: Pfadfinder Steinwiesen\n\nhttps://www.steinwi
 esen.de/aktuelles/veranstaltungen/50-jahre-pfadfinder-stamm-steinwiesen-rh
 ythmo-gottesdienst-in-der-kath-pfarrkichte-steinwiesen-24042026/
DTEND:20260424T193000
DTSTAMP:20260421T120446Z
DTSTART:20260424T183000
LOCATION:Pfarrkirche St. Marien Steinwiesen: Am Kirchplatz 11\, 96349 Stein
 wiesen
SEQUENCE:0
SUMMARY:50 Jahre Pfadfinder - Stamm Steinwiesen\, Rhythmo-Gottesdienst in d
 er Kath. Pfarrkichte Steinwiesen
UID:34966
URL:https://www.steinwiesen.de/aktuelles/veranstaltungen/50-jahre-pfadfinde
 r-stamm-steinwiesen-rhythmo-gottesdienst-in-der-kath-pfarrkichte-steinwies
 en-24042026/
END:VEVENT
END:VCALENDAR
