BEGIN:VCALENDAR
VERSION:2.0
PRODID:-//ddaysoftware.com//NONSGML DDay.iCal 1.0//EN
BEGIN:VTIMEZONE
TZID:W. Europe Standard Time
BEGIN:STANDARD
DTSTART:20251002T030000
RRULE:FREQ=YEARLY;BYDAY=-1SU;BYHOUR=3;BYMINUTE=0;BYMONTH=10
TZNAME:W. Europe Standard Time
TZOFFSETFROM:+0200
TZOFFSETTO:+0100
END:STANDARD
BEGIN:DAYLIGHT
DTSTART:20250301T020000
RRULE:FREQ=YEARLY;BYDAY=-1SU;BYHOUR=2;BYMINUTE=0;BYMONTH=3
TZNAME:W. Europe Daylight Time
TZOFFSETFROM:+0100
TZOFFSETTO:+0200
END:DAYLIGHT
END:VTIMEZONE
BEGIN:VEVENT
CATEGORIES:Wanderung
DESCRIPTION:Familienwanderung zum Staffelberg\, Treffpunkt um 13.00 Uhr am 
 Bahnhof Steinwiesen mit Privat-PKW\n\nVeranstalter: Frankenwaldverein Stei
 nwiesen\n\nhttps://www.steinwiesen.de/aktuelles/veranstaltungen/familienwa
 nderung-des-frankenwaldverein-steinwiesen-17052026/
DTEND:20260517T140000
DTSTAMP:20260421T124759Z
DTSTART:20260517T130000
SEQUENCE:0
SUMMARY:Familienwanderung des Frankenwaldverein Steinwiesen
UID:34968
URL:https://www.steinwiesen.de/aktuelles/veranstaltungen/familienwanderung-
 des-frankenwaldverein-steinwiesen-17052026/
END:VEVENT
END:VCALENDAR
