BEGIN:VCALENDAR
VERSION:2.0
PRODID:-//ddaysoftware.com//NONSGML DDay.iCal 1.0//EN
BEGIN:VTIMEZONE
TZID:W. Europe Standard Time
BEGIN:STANDARD
DTSTART:20251002T030000
RRULE:FREQ=YEARLY;BYDAY=-1SU;BYHOUR=3;BYMINUTE=0;BYMONTH=10
TZNAME:W. Europe Standard Time
TZOFFSETFROM:+0200
TZOFFSETTO:+0100
END:STANDARD
BEGIN:DAYLIGHT
DTSTART:20250301T020000
RRULE:FREQ=YEARLY;BYDAY=-1SU;BYHOUR=2;BYMINUTE=0;BYMONTH=3
TZNAME:W. Europe Daylight Time
TZOFFSETFROM:+0100
TZOFFSETTO:+0200
END:DAYLIGHT
END:VTIMEZONE
BEGIN:VEVENT
CATEGORIES:"In der Heimat wohnen"
DESCRIPTION:\n\nVeranstalter: Caritas-Quartiersstützpunkt „In der Heimat wo
 hnen“\n\nhttps://www.steinwiesen.de/aktuelles/veranstaltungen/sitztanz-mit
 -jutta-sommer-des-caritas-quartiersstuetzpunktes-in-der-heimat-wohnen-2605
 2026/
DTEND:20260526T153000
DTSTAMP:20260421T125601Z
DTSTART:20260526T143000
LOCATION:Koberhaus: Kronacher Str. 2\, 96349 Steinwiesen
SEQUENCE:0
SUMMARY:Sitztanz mit Jutta Sommer des Caritas-Quartiersstützpunktes "In der
  Heimat wohnen"
UID:34977
URL:https://www.steinwiesen.de/aktuelles/veranstaltungen/sitztanz-mit-jutta
 -sommer-des-caritas-quartiersstuetzpunktes-in-der-heimat-wohnen-26052026/
END:VEVENT
END:VCALENDAR
