BEGIN:VCALENDAR
VERSION:2.0
PRODID:-//ddaysoftware.com//NONSGML DDay.iCal 1.0//EN
BEGIN:VTIMEZONE
TZID:W. Europe Standard Time
BEGIN:STANDARD
DTSTART:20251002T030000
RRULE:FREQ=YEARLY;BYDAY=-1SU;BYHOUR=3;BYMINUTE=0;BYMONTH=10
TZNAME:W. Europe Standard Time
TZOFFSETFROM:+0200
TZOFFSETTO:+0100
END:STANDARD
BEGIN:DAYLIGHT
DTSTART:20250301T020000
RRULE:FREQ=YEARLY;BYDAY=-1SU;BYHOUR=2;BYMINUTE=0;BYMONTH=3
TZNAME:W. Europe Daylight Time
TZOFFSETFROM:+0100
TZOFFSETTO:+0200
END:DAYLIGHT
END:VTIMEZONE
BEGIN:VEVENT
CATEGORIES:Sonstiges
DESCRIPTION:\n\nVeranstalter: Frankenwaldverein Steinwiesen\n\nhttps://www.
 steinwiesen.de/aktuelles/veranstaltungen/sommerhuettentag-des-frankenwaldv
 erein-steinwiesen-26072026/
DTEND:20260726T150000
DTSTAMP:20260421T121516Z
DTSTART:20260726T140000
LOCATION:Frankenwaldhütte
SEQUENCE:0
SUMMARY:Sommerhüttentag des Frankenwaldverein Steinwiesen
UID:34969
URL:https://www.steinwiesen.de/aktuelles/veranstaltungen/sommerhuettentag-d
 es-frankenwaldverein-steinwiesen-26072026/
END:VEVENT
END:VCALENDAR
