BEGIN:VCALENDAR
VERSION:2.0
PRODID:-//ddaysoftware.com//NONSGML DDay.iCal 1.0//EN
BEGIN:VTIMEZONE
TZID:W. Europe Standard Time
BEGIN:STANDARD
DTSTART:20251002T030000
RRULE:FREQ=YEARLY;BYDAY=-1SU;BYHOUR=3;BYMINUTE=0;BYMONTH=10
TZNAME:W. Europe Standard Time
TZOFFSETFROM:+0200
TZOFFSETTO:+0100
END:STANDARD
BEGIN:DAYLIGHT
DTSTART:20250301T020000
RRULE:FREQ=YEARLY;BYDAY=-1SU;BYHOUR=2;BYMINUTE=0;BYMONTH=3
TZNAME:W. Europe Daylight Time
TZOFFSETFROM:+0100
TZOFFSETTO:+0200
END:DAYLIGHT
END:VTIMEZONE
BEGIN:VEVENT
CATEGORIES:Sonstiges
CATEGORIES:"In der Heimat wohnen"
DESCRIPTION:\n\nVeranstalter: Caritas-Quartiersstützpunkt „In der Heimat wo
 hnen“\n\nhttps://www.steinwiesen.de/aktuelles/veranstaltungen/vortrag-tipp
 s-und-tricks-fuer-ein-selbstbestimmtes-barrierefreies-wohnen-und-leben-im-
 alter-des-caritas-quartiersstuetzpunktes-in-der-heimat-wohnen-12052026/
DTEND:20260512T180000
DTSTAMP:20260421T125258Z
DTSTART:20260512T170000
LOCATION:Pfarrzentrum Steinwiesen: Kirchstr. 6\, 96349 Steinwiesen
SEQUENCE:0
SUMMARY:Vortrag: „Tipps und Tricks für ein selbstbestimmtes\, barrierefreie
 s Wohnen und Leben im Alter“ des Caritas-Quartiersstützpunktes "In der Hei
 mat wohnen"
UID:34975
URL:https://www.steinwiesen.de/aktuelles/veranstaltungen/vortrag-tipps-und-
 tricks-fuer-ein-selbstbestimmtes-barrierefreies-wohnen-und-leben-im-alter-
 des-caritas-quartiersstuetzpunktes-in-der-heimat-wohnen-12052026/
END:VEVENT
END:VCALENDAR
